BEGIN:VCALENDAR
VERSION:2.0
PRODID:-//Date iCal//NONSGML kigkonsult.se iCalcreator 2.20.2//
METHOD:PUBLISH
X-WR-CALNAME;VALUE=TEXT:UAW Kobol
BEGIN:VTIMEZONE
TZID:America/Detroit
BEGIN:STANDARD
DTSTART:20171105T020000
TZOFFSETFROM:-0400
TZOFFSETTO:-0500
TZNAME:EST
END:STANDARD
BEGIN:DAYLIGHT
DTSTART:20170312T020000
TZOFFSETFROM:-0500
TZOFFSETTO:-0400
RDATE:20180311T020000
TZNAME:EDT
END:DAYLIGHT
END:VTIMEZONE
BEGIN:VEVENT
UID:calendar.19516.field_oa_date.0@region1a.uaw.org
DTSTAMP:20210915T163420Z
CREATED:20170718T233523Z
DESCRIPTION:Join us for *free food\, fun\, and fellowship at Woodscreek Pav
 ilion in Lower Huron Metro Park. There will be lots of good food\, prizes\
 , games and activities for adults and children of all ages.\n\n*We may hav
 e some raffles or special paid activities to raise funds for our Adopt-A-C
 hild program.\n\n**Although our event is free\, you must pay for park admi
 ssion and there is an onsite waterpark available for an additional fee.\n
 \nFor entrance fees\, waterpark info\, or site directions see the link abo
 ve.
DTSTART;TZID=America/Detroit:20170903T101500
DTEND;TZID=America/Detroit:20170903T170000
LAST-MODIFIED:20170718T233652Z
LOCATION:http://www.metroparks.com/parks/lower-huron-metropark/#1
SUMMARY:2nd Annual Family Fun Day
URL;TYPE=URI:https://region1a.uaw.org/uaw-local-892-saline/events/2nd-annua
 l-family-fun-day
END:VEVENT
END:VCALENDAR
