BEGIN:VCALENDAR
VERSION:2.0
PRODID:-//Date iCal//NONSGML kigkonsult.se iCalcreator 2.20.2//
METHOD:PUBLISH
X-WR-CALNAME;VALUE=TEXT:UAW Kobol
BEGIN:VTIMEZONE
TZID:America/Detroit
BEGIN:STANDARD
DTSTART:20201101T020000
TZOFFSETFROM:-0400
TZOFFSETTO:-0500
RDATE:20211107T020000
TZNAME:EST
END:STANDARD
BEGIN:DAYLIGHT
DTSTART:20200308T020000
TZOFFSETFROM:-0500
TZOFFSETTO:-0400
RDATE:20210314T020000
TZNAME:EDT
END:DAYLIGHT
END:VTIMEZONE
BEGIN:VEVENT
UID:calendar.109732.field_oa_date.0@region1a.uaw.org
DTSTAMP:20210909T223425Z
CREATED:20210115T151606Z
DTSTART;VALUE=DATE:20210118
DTEND;VALUE=DATE:20210119
LAST-MODIFIED:20210115T151606Z
SUMMARY:Martin Luther King Jr. Day
URL;TYPE=URI:https://region1a.uaw.org/events/martin-luther-king-jr-day
END:VEVENT
BEGIN:VEVENT
UID:calendar.103188.field_oa_date.0@region1a.uaw.org
DTSTAMP:20210909T223425Z
CREATED:20201102T195628Z
DTSTART;VALUE=DATE:20210704
DTEND;VALUE=DATE:20210705
LAST-MODIFIED:20201102T195628Z
RRULE:FREQ=YEARLY;COUNT=10;INTERVAL=1;BYMONTHDAY=4;BYMONTH=7;WKST=SU
SUMMARY:Independence Day
URL;TYPE=URI:https://region1a.uaw.org/events/independence-day-0
END:VEVENT
BEGIN:VEVENT
UID:calendar.103187.field_oa_date.0@region1a.uaw.org
DTSTAMP:20210909T223425Z
CREATED:20201102T194458Z
DTSTART;VALUE=DATE:20210101
DTEND;VALUE=DATE:20210102
LAST-MODIFIED:20201102T194458Z
RRULE:FREQ=YEARLY;COUNT=10;INTERVAL=1;BYMONTHDAY=1;BYMONTH=1;WKST=SU
SUMMARY:New Year's Day
URL;TYPE=URI:https://region1a.uaw.org/events/new-years-day
END:VEVENT
BEGIN:VEVENT
UID:calendar.103186.field_oa_date.0@region1a.uaw.org
DTSTAMP:20210909T223425Z
CREATED:20201102T194415Z
DTSTART;VALUE=DATE:20201231
DTEND;VALUE=DATE:20210101
LAST-MODIFIED:20201102T194415Z
RRULE:FREQ=YEARLY;COUNT=10;INTERVAL=1;BYMONTHDAY=31;BYMONTH=12;WKST=SU
SUMMARY:New Year's Eve
URL;TYPE=URI:https://region1a.uaw.org/events/new-years-eve
END:VEVENT
BEGIN:VEVENT
UID:calendar.103185.field_oa_date.0@region1a.uaw.org
DTSTAMP:20210909T223425Z
CREATED:20201102T194327Z
DTSTART;VALUE=DATE:20201225
DTEND;VALUE=DATE:20201226
LAST-MODIFIED:20201102T194327Z
RRULE:FREQ=YEARLY;COUNT=10;INTERVAL=1;BYMONTHDAY=25;BYMONTH=12;WKST=SU
SUMMARY:Christmas Day
URL;TYPE=URI:https://region1a.uaw.org/events/christmas-day
END:VEVENT
BEGIN:VEVENT
UID:calendar.103184.field_oa_date.0@region1a.uaw.org
DTSTAMP:20210909T223425Z
CREATED:20201102T194241Z
DTSTART;VALUE=DATE:20201224
DTEND;VALUE=DATE:20201225
LAST-MODIFIED:20201102T194241Z
RRULE:FREQ=YEARLY;COUNT=10;INTERVAL=1;BYMONTHDAY=24;BYMONTH=12;WKST=SU
SUMMARY:Christmas Eve
URL;TYPE=URI:https://region1a.uaw.org/events/christmas-eve
END:VEVENT
BEGIN:VEVENT
UID:calendar.103183.field_oa_date.0@region1a.uaw.org
DTSTAMP:20210909T223425Z
CREATED:20201102T193954Z
DTSTART;VALUE=DATE:20201126
DTEND;VALUE=DATE:20201127
LAST-MODIFIED:20201102T193954Z
SUMMARY:Thanksgiving
URL;TYPE=URI:https://region1a.uaw.org/events/thanksgiving
END:VEVENT
BEGIN:VEVENT
UID:calendar.103182.field_oa_date.0@region1a.uaw.org
DTSTAMP:20210909T223425Z
CREATED:20201102T193900Z
DESCRIPTION:Thank you for your service.
DTSTART;VALUE=DATE:20201111
DTEND;VALUE=DATE:20201112
LAST-MODIFIED:20201102T194053Z
RRULE:FREQ=YEARLY;COUNT=10;INTERVAL=1;BYMONTHDAY=11;BYMONTH=11;WKST=SU
SUMMARY:Veteran's Day
URL;TYPE=URI:https://region1a.uaw.org/events/veterans-day
END:VEVENT
BEGIN:VEVENT
UID:calendar.103181.field_oa_date.0@region1a.uaw.org
DTSTAMP:20210909T223425Z
CREATED:20201102T193843Z
DESCRIPTION:Polls in Michigan open from 7am till 8pm
DTSTART;VALUE=DATE:20201103
DTEND;VALUE=DATE:20201104
LAST-MODIFIED:20201102T193843Z
SUMMARY:Election Day
URL;TYPE=URI:https://region1a.uaw.org/events/election-day
END:VEVENT
BEGIN:VEVENT
UID:calendar.92484.field_oa_date.0@region1a.uaw.org
DTSTAMP:20210909T223425Z
CREATED:20200702T121647Z
DTSTART;VALUE=DATE:20200907
DTEND;VALUE=DATE:20200908
LAST-MODIFIED:20200702T121647Z
SUMMARY:Labor Day
URL;TYPE=URI:https://region1a.uaw.org/events/labor-day
END:VEVENT
BEGIN:VEVENT
UID:calendar.92477.field_oa_date.0@region1a.uaw.org
DTSTAMP:20210909T223425Z
CREATED:20200701T145400Z
DTSTART;VALUE=DATE:20200704
DTEND;VALUE=DATE:20200705
LAST-MODIFIED:20200702T090010Z
SUMMARY:Independence Day
URL;TYPE=URI:https://region1a.uaw.org/events/independence-day
END:VEVENT
END:VCALENDAR
